Package: ExperimentHub Version: 2.99.5 Command: F:\biocbuild\bbs-3.22-bioc\R\bin\R.exe CMD INSTALL ExperimentHub StartedAt: 2025-07-24 16:12:30 -0400 (Thu, 24 Jul 2025) EndedAt: 2025-07-24 16:12:57 -0400 (Thu, 24 Jul 2025) EllapsedTime: 27.0 seconds RetCode: 0 Status: OK