Package: ExperimentHub Version: 2.99.5 Command: chmod a+r ExperimentHub -R && F:\biocbuild\bbs-3.22-bioc\R\bin\R.exe CMD build --keep-empty-dirs --no-resave-data ExperimentHub StartedAt: 2025-07-24 19:08:14 -0400 (Thu, 24 Jul 2025) EndedAt: 2025-07-24 19:08:57 -0400 (Thu, 24 Jul 2025) EllapsedTime: 43.3 seconds RetCode: 0 Status: OK PackageFile: ExperimentHub_2.99.5.tar.gz PackageFileSize: 490.8 KiB