Package: ExiMiR Version: 2.51.0 Command: F:\biocbuild\bbs-3.22-bioc\R\bin\R.exe CMD check --no-multiarch --install=check:ExiMiR.install-out.txt --library=F:\biocbuild\bbs-3.22-bioc\R\library --no-vignettes --timings ExiMiR_2.51.0.tar.gz StartedAt: 2025-07-02 01:51:45 -0400 (Wed, 02 Jul 2025) EndedAt: 2025-07-02 01:52:57 -0400 (Wed, 02 Jul 2025) EllapsedTime: 71.5 seconds RetCode: 0 Status: OK CheckDir: ExiMiR.Rcheck Warnings: 0