Package: ExiMiR Version: 2.51.0 Command: chmod a+r ExiMiR -R && F:\biocbuild\bbs-3.22-bioc\R\bin\R.exe CMD build --keep-empty-dirs --no-resave-data ExiMiR StartedAt: 2025-07-01 18:55:28 -0400 (Tue, 01 Jul 2025) EndedAt: 2025-07-01 18:56:42 -0400 (Tue, 01 Jul 2025) EllapsedTime: 73.1 seconds RetCode: 0 Status: OK PackageFile: ExiMiR_2.51.0.tar.gz PackageFileSize: 1.217 MiB