Package: ExiMiR Version: 2.51.0 Command: rm -rf ExiMiR.buildbin-libdir && mkdir ExiMiR.buildbin-libdir && F:\biocbuild\bbs-3.22-bioc\R\bin\R.exe CMD INSTALL --build --library=ExiMiR.buildbin-libdir ExiMiR_2.51.0.tar.gz StartedAt: 2025-07-02 08:50:57 -0400 (Wed, 02 Jul 2025) EndedAt: 2025-07-02 08:51:20 -0400 (Wed, 02 Jul 2025) EllapsedTime: 23.0 seconds RetCode: 0 Status: OK PackageFile: ExiMiR_2.51.0.zip PackageFileSize: 1.064 MiB