Package: ExCluster Version: 1.27.0 Command: /home/biocbuild/R/R/bin/R CMD INSTALL ExCluster StartedAt: 2025-10-02 20:48:39 -0000 (Thu, 02 Oct 2025) EndedAt: 2025-10-02 20:49:18 -0000 (Thu, 02 Oct 2025) EllapsedTime: 38.9 seconds RetCode: 0 Status: OK