Package: EpiTxDb Version: 1.21.0 Command: /home/biocbuild/R/R/bin/R CMD INSTALL EpiTxDb StartedAt: 2025-07-03 21:10:22 -0000 (Thu, 03 Jul 2025) EndedAt: 2025-07-03 21:11:18 -0000 (Thu, 03 Jul 2025) EllapsedTime: 56.2 seconds RetCode: 0 Status: OK