Package: EpiTxDb Version: 1.21.0 Command: F:\biocbuild\bbs-3.22-bioc\R\bin\R.exe CMD INSTALL EpiTxDb StartedAt: 2025-07-14 16:39:40 -0400 (Mon, 14 Jul 2025) EndedAt: 2025-07-14 16:41:10 -0400 (Mon, 14 Jul 2025) EllapsedTime: 89.8 seconds RetCode: 0 Status: OK