Package: EpiTxDb Version: 1.21.0 Command: rm -rf EpiTxDb.buildbin-libdir && mkdir EpiTxDb.buildbin-libdir && F:\biocbuild\bbs-3.22-bioc\R\bin\R.exe CMD INSTALL --build --library=EpiTxDb.buildbin-libdir EpiTxDb_1.21.0.tar.gz StartedAt: 2025-07-15 08:54:05 -0400 (Tue, 15 Jul 2025) EndedAt: 2025-07-15 08:55:42 -0400 (Tue, 15 Jul 2025) EllapsedTime: 96.9 seconds RetCode: 0 Status: OK PackageFile: EpiTxDb_1.21.0.zip PackageFileSize: 1.6 MiB