Package: EpiTxDb Version: 1.21.0 Command: /Library/Frameworks/R.framework/Resources/bin/R CMD check --install=check:EpiTxDb.install-out.txt --library=/Library/Frameworks/R.framework/Resources/library --no-vignettes --timings EpiTxDb_1.21.0.tar.gz StartedAt: 2025-07-04 19:09:10 -0400 (Fri, 04 Jul 2025) EndedAt: 2025-07-04 19:11:07 -0400 (Fri, 04 Jul 2025) EllapsedTime: 117.4 seconds RetCode: 0 Status: WARNINGS CheckDir: EpiTxDb.Rcheck Warnings: 2