Package: EpiMix Version: 1.11.0 Command: /home/biocbuild/R/R/bin/R CMD INSTALL EpiMix StartedAt: 2025-07-21 21:08:43 -0000 (Mon, 21 Jul 2025) EndedAt: 2025-07-21 21:09:37 -0000 (Mon, 21 Jul 2025) EllapsedTime: 54.2 seconds RetCode: 0 Status: OK