Package: EpiMix Version: 1.11.0 Command: F:\biocbuild\bbs-3.22-bioc\R\bin\R.exe CMD INSTALL EpiMix StartedAt: 2025-07-22 16:26:33 -0400 (Tue, 22 Jul 2025) EndedAt: 2025-07-22 16:27:46 -0400 (Tue, 22 Jul 2025) EllapsedTime: 73.0 seconds RetCode: 0 Status: OK