Package: EpiMix Version: 1.11.0 Command: chmod a+r EpiMix -R && F:\biocbuild\bbs-3.22-bioc\R\bin\R.exe CMD build --keep-empty-dirs --no-resave-data EpiMix StartedAt: 2025-07-22 18:50:09 -0400 (Tue, 22 Jul 2025) EndedAt: 2025-07-22 18:58:15 -0400 (Tue, 22 Jul 2025) EllapsedTime: 486.4 seconds RetCode: 0 Status: OK PackageFile: EpiMix_1.11.0.tar.gz PackageFileSize: 2.459 MiB