Package: EpiMix Version: 1.11.0 Command: rm -rf EpiMix.buildbin-libdir && mkdir EpiMix.buildbin-libdir && F:\biocbuild\bbs-3.22-bioc\R\bin\R.exe CMD INSTALL --build --library=EpiMix.buildbin-libdir EpiMix_1.11.0.tar.gz StartedAt: 2025-07-23 09:04:36 -0400 (Wed, 23 Jul 2025) EndedAt: 2025-07-23 09:05:54 -0400 (Wed, 23 Jul 2025) EllapsedTime: 77.4 seconds RetCode: 0 Status: OK PackageFile: EpiMix_1.11.0.zip PackageFileSize: 1.917 MiB