Package: EpiMix Version: 1.11.0 Command: /home/biocbuild/bbs-3.22-bioc/R/bin/R CMD check --install=check:EpiMix.install-out.txt --library=/home/biocbuild/bbs-3.22-bioc/R/site-library --timings EpiMix_1.11.0.tar.gz StartedAt: 2025-07-07 22:06:02 -0400 (Mon, 07 Jul 2025) EndedAt: 2025-07-07 22:19:43 -0400 (Mon, 07 Jul 2025) EllapsedTime: 820.9 seconds RetCode: 0 Status: OK CheckDir: EpiMix.Rcheck Warnings: 0