Package: EpiMix Version: 1.11.0 Command: /Library/Frameworks/R.framework/Resources/bin/R CMD INSTALL EpiMix StartedAt: 2025-07-21 15:32:32 -0400 (Mon, 21 Jul 2025) EndedAt: 2025-07-21 15:33:29 -0400 (Mon, 21 Jul 2025) EllapsedTime: 56.3 seconds RetCode: 0 Status: OK