Package: EpiMix Version: 1.11.0 Command: /Library/Frameworks/R.framework/Resources/bin/R CMD check --install=check:EpiMix.install-out.txt --library=/Library/Frameworks/R.framework/Resources/library --no-vignettes --timings EpiMix_1.11.0.tar.gz StartedAt: 2025-07-21 20:32:47 -0400 (Mon, 21 Jul 2025) EndedAt: 2025-07-21 20:41:10 -0400 (Mon, 21 Jul 2025) EllapsedTime: 503.5 seconds RetCode: 0 Status: OK CheckDir: EpiMix.Rcheck Warnings: 0