Package: EpiMix Version: 1.11.0 Command: /Library/Frameworks/R.framework/Resources/bin/R CMD build --keep-empty-dirs --no-resave-data EpiMix StartedAt: 2025-07-20 16:53:24 -0400 (Sun, 20 Jul 2025) EndedAt: 2025-07-20 17:00:00 -0400 (Sun, 20 Jul 2025) EllapsedTime: 395.8 seconds RetCode: 0 Status: OK PackageFile: EpiMix_1.11.0.tar.gz PackageFileSize: 2.893 MiB