Package: EpiMix Version: 1.11.0 Command: /Library/Frameworks/R.framework/Resources/bin/R CMD INSTALL EpiMix StartedAt: 2025-07-07 15:19:23 -0400 (Mon, 07 Jul 2025) EndedAt: 2025-07-07 15:19:41 -0400 (Mon, 07 Jul 2025) EllapsedTime: 17.7 seconds RetCode: 0 Status: OK