Package: EpiMix Version: 1.11.0 Command: /Library/Frameworks/R.framework/Resources/bin/R CMD check --install=check:EpiMix.install-out.txt --library=/Library/Frameworks/R.framework/Resources/library --no-vignettes --timings EpiMix_1.11.0.tar.gz StartedAt: 2025-07-07 19:06:47 -0400 (Mon, 07 Jul 2025) EndedAt: 2025-07-07 19:09:45 -0400 (Mon, 07 Jul 2025) EllapsedTime: 178.0 seconds RetCode: 0 Status: OK CheckDir: EpiMix.Rcheck Warnings: 0