Package: EpiMix Version: 1.11.0 Command: /Library/Frameworks/R.framework/Resources/bin/R CMD build --keep-empty-dirs --no-resave-data EpiMix StartedAt: 2025-07-07 16:13:24 -0400 (Mon, 07 Jul 2025) EndedAt: 2025-07-07 16:16:17 -0400 (Mon, 07 Jul 2025) EllapsedTime: 172.9 seconds RetCode: 0 Status: OK PackageFile: EpiMix_1.11.0.tar.gz PackageFileSize: 2.902 MiB