Package: EpiDISH Version: 2.25.0 Command: /home/biocbuild/R/R/bin/R CMD INSTALL EpiDISH StartedAt: 2025-10-02 20:21:40 -0000 (Thu, 02 Oct 2025) EndedAt: 2025-10-02 20:22:05 -0000 (Thu, 02 Oct 2025) EllapsedTime: 25.2 seconds RetCode: 0 Status: OK