Package: EpiDISH Version: 2.25.0 Command: F:\biocbuild\bbs-3.22-bioc\R\bin\R.exe CMD INSTALL EpiDISH StartedAt: 2025-08-14 15:22:52 -0400 (Thu, 14 Aug 2025) EndedAt: 2025-08-14 15:23:08 -0400 (Thu, 14 Aug 2025) EllapsedTime: 15.9 seconds RetCode: 0 Status: OK