Package: EpiDISH Version: 2.25.0 Command: F:\biocbuild\bbs-3.22-bioc\R\bin\R.exe CMD check --no-multiarch --install=check:EpiDISH.install-out.txt --library=F:\biocbuild\bbs-3.22-bioc\R\library --no-vignettes --timings EpiDISH_2.25.0.tar.gz StartedAt: 2025-08-15 02:59:02 -0400 (Fri, 15 Aug 2025) EndedAt: 2025-08-15 03:00:11 -0400 (Fri, 15 Aug 2025) EllapsedTime: 69.4 seconds RetCode: 0 Status: OK CheckDir: EpiDISH.Rcheck Warnings: 0