Package: EpiDISH Version: 2.25.0 Command: rm -rf EpiDISH.buildbin-libdir && mkdir EpiDISH.buildbin-libdir && F:\biocbuild\bbs-3.22-bioc\R\bin\R.exe CMD INSTALL --build --library=EpiDISH.buildbin-libdir EpiDISH_2.25.0.tar.gz StartedAt: 2025-08-15 10:13:42 -0400 (Fri, 15 Aug 2025) EndedAt: 2025-08-15 10:13:56 -0400 (Fri, 15 Aug 2025) EllapsedTime: 13.6 seconds RetCode: 0 Status: OK PackageFile: EpiDISH_2.25.0.zip PackageFileSize: 2.107 MiB