Package: EpiCompare Version: 1.13.2 Command: /home/biocbuild/R/R/bin/R CMD build --keep-empty-dirs --no-resave-data EpiCompare StartedAt: 2025-10-02 23:49:09 -0000 (Thu, 02 Oct 2025) EndedAt: 2025-10-02 23:50:50 -0000 (Thu, 02 Oct 2025) EllapsedTime: 101.0 seconds RetCode: 0 Status: OK PackageFile: EpiCompare_1.13.2.tar.gz PackageFileSize: 1.945 MiB