Package: EpiCompare Version: 1.13.0 Command: F:\biocbuild\bbs-3.22-bioc\R\bin\R.exe CMD check --no-multiarch --install=check:EpiCompare.install-out.txt --library=F:\biocbuild\bbs-3.22-bioc\R\library --no-vignettes --timings EpiCompare_1.13.0.tar.gz StartedAt: 2025-07-18 01:41:29 -0400 (Fri, 18 Jul 2025) EndedAt: 2025-07-18 01:57:56 -0400 (Fri, 18 Jul 2025) EllapsedTime: 986.7 seconds RetCode: 1 Status: ERROR CheckDir: EpiCompare.Rcheck Warnings: NA