Package: EpiCompare Version: 1.13.0 Command: /home/biocbuild/bbs-3.22-bioc/R/bin/R CMD INSTALL EpiCompare StartedAt: 2025-07-16 16:10:36 -0400 (Wed, 16 Jul 2025) EndedAt: 2025-07-16 16:11:26 -0400 (Wed, 16 Jul 2025) EllapsedTime: 49.8 seconds RetCode: 0 Status: OK