Package: EpiCompare Version: 1.13.0 Command: /home/biocbuild/bbs-3.22-bioc/R/bin/R CMD build --keep-empty-dirs --no-resave-data --md5 EpiCompare StartedAt: 2025-07-15 17:05:09 -0400 (Tue, 15 Jul 2025) EndedAt: 2025-07-15 17:06:20 -0400 (Tue, 15 Jul 2025) EllapsedTime: 71.1 seconds RetCode: 0 Status: OK PackageFile: EpiCompare_1.13.0.tar.gz PackageFileSize: 1.88 MiB