Package: EpiCompare Version: 1.13.0 Command: /Library/Frameworks/R.framework/Resources/bin/R CMD INSTALL EpiCompare StartedAt: 2025-07-16 15:48:15 -0400 (Wed, 16 Jul 2025) EndedAt: 2025-07-16 15:49:10 -0400 (Wed, 16 Jul 2025) EllapsedTime: 55.2 seconds RetCode: 0 Status: OK