Package: EpiCompare Version: 1.13.0 Command: /Library/Frameworks/R.framework/Resources/bin/R CMD check --install=check:EpiCompare.install-out.txt --library=/Library/Frameworks/R.framework/Resources/library --no-vignettes --timings EpiCompare_1.13.0.tar.gz StartedAt: 2025-07-17 20:29:00 -0400 (Thu, 17 Jul 2025) EndedAt: 2025-07-17 20:43:32 -0400 (Thu, 17 Jul 2025) EllapsedTime: 872.6 seconds RetCode: 1 Status: ERROR CheckDir: EpiCompare.Rcheck Warnings: NA