Package: EpiCompare Version: 1.13.0 Command: /Library/Frameworks/R.framework/Resources/bin/R CMD build --keep-empty-dirs --no-resave-data EpiCompare StartedAt: 2025-07-16 16:50:02 -0400 (Wed, 16 Jul 2025) EndedAt: 2025-07-16 16:51:28 -0400 (Wed, 16 Jul 2025) EllapsedTime: 86.7 seconds RetCode: 0 Status: OK PackageFile: EpiCompare_1.13.0.tar.gz PackageFileSize: 1.871 MiB