Package: EpiCompare Version: 1.13.0 Maintainer: Hiranyamaya Dash MaintainerEmail: hdash.work at gmail.com git_url: https://git.bioconductor.org/packages/EpiCompare git_branch: devel git_last_commit: 0fe51fc git_last_commit_date: 2025-04-15 12:51:17 -0400 (Tue, 15 Apr 2025)