Package: EnrichedHeatmap Version: 1.39.1 Command: /home/biocbuild/bbs-3.22-bioc/R/bin/R CMD INSTALL EnrichedHeatmap StartedAt: 2025-06-29 15:17:53 -0400 (Sun, 29 Jun 2025) EndedAt: 2025-06-29 15:18:09 -0400 (Sun, 29 Jun 2025) EllapsedTime: 16.6 seconds RetCode: 0 Status: OK