Package: EnrichedHeatmap Version: 1.39.1 Command: /home/biocbuild/bbs-3.22-bioc/R/bin/R CMD check --install=check:EnrichedHeatmap.install-out.txt --library=/home/biocbuild/bbs-3.22-bioc/R/site-library --timings EnrichedHeatmap_1.39.1.tar.gz StartedAt: 2025-06-29 21:58:55 -0400 (Sun, 29 Jun 2025) EndedAt: 2025-06-29 22:06:43 -0400 (Sun, 29 Jun 2025) EllapsedTime: 468.5 seconds RetCode: 0 Status: OK CheckDir: EnrichedHeatmap.Rcheck Warnings: 0