Package: EnrichedHeatmap Version: 1.39.1 Command: /home/biocbuild/bbs-3.22-bioc/R/bin/R CMD build --keep-empty-dirs --no-resave-data --md5 EnrichedHeatmap StartedAt: 2025-06-29 17:07:50 -0400 (Sun, 29 Jun 2025) EndedAt: 2025-06-29 17:13:09 -0400 (Sun, 29 Jun 2025) EllapsedTime: 318.4 seconds RetCode: 0 Status: OK PackageFile: EnrichedHeatmap_1.39.1.tar.gz PackageFileSize: 11.62 MiB