Package: EnrichDO Version: 1.3.0 Command: F:\biocbuild\bbs-3.22-bioc\R\bin\R.exe CMD INSTALL EnrichDO StartedAt: 2025-07-22 16:39:30 -0400 (Tue, 22 Jul 2025) EndedAt: 2025-07-22 16:40:10 -0400 (Tue, 22 Jul 2025) EllapsedTime: 39.4 seconds RetCode: 0 Status: OK