Package: EnrichDO Version: 1.3.0 Command: chmod a+r EnrichDO -R && F:\biocbuild\bbs-3.22-bioc\R\bin\R.exe CMD build --keep-empty-dirs --no-resave-data EnrichDO StartedAt: 2025-07-22 18:47:08 -0400 (Tue, 22 Jul 2025) EndedAt: 2025-07-22 18:48:57 -0400 (Tue, 22 Jul 2025) EllapsedTime: 108.6 seconds RetCode: 0 Status: OK PackageFile: EnrichDO_1.3.0.tar.gz PackageFileSize: 1.985 MiB