Package: EnhancedVolcano Version: 1.27.0 Command: /home/biocbuild/R/R/bin/R CMD build --keep-empty-dirs --no-resave-data EnhancedVolcano StartedAt: 2025-06-30 23:24:58 -0000 (Mon, 30 Jun 2025) EndedAt: 2025-06-30 23:27:05 -0000 (Mon, 30 Jun 2025) EllapsedTime: 127.0 seconds RetCode: 0 Status: OK PackageFile: EnhancedVolcano_1.27.0.tar.gz PackageFileSize: 6.17 MiB