Package: EnhancedVolcano Version: 1.27.0 Command: /Library/Frameworks/R.framework/Resources/bin/R CMD INSTALL EnhancedVolcano StartedAt: 2025-10-03 15:09:15 -0400 (Fri, 03 Oct 2025) EndedAt: 2025-10-03 15:09:59 -0400 (Fri, 03 Oct 2025) EllapsedTime: 43.4 seconds RetCode: 0 Status: OK