Package: EnhancedVolcano Version: 1.27.0 Command: /Library/Frameworks/R.framework/Resources/bin/R CMD build --keep-empty-dirs --no-resave-data EnhancedVolcano StartedAt: 2025-10-05 16:54:30 -0400 (Sun, 05 Oct 2025) EndedAt: 2025-10-05 16:56:12 -0400 (Sun, 05 Oct 2025) EllapsedTime: 101.8 seconds RetCode: 0 Status: OK PackageFile: EnhancedVolcano_1.27.0.tar.gz PackageFileSize: 9.806 MiB