Package: EnhancedVolcano Version: 1.27.0 Command: rm -rf EnhancedVolcano.buildbin-libdir && mkdir EnhancedVolcano.buildbin-libdir && /Users/biocbuild/BBS/utils/build-universal.sh EnhancedVolcano_1.27.0.tar.gz /Library/Frameworks/R.framework/Resources/bin/R EnhancedVolcano.buildbin-libdir StartedAt: 2025-10-04 02:04:05 -0400 (Sat, 04 Oct 2025) EndedAt: 2025-10-04 02:04:18 -0400 (Sat, 04 Oct 2025) EllapsedTime: 13.0 seconds RetCode: 0 Status: OK PackageFile: EnhancedVolcano_1.27.0.tgz PackageFileSize: 5.797 MiB