Package: EnhancedVolcano Version: 1.27.0 Command: rm -rf EnhancedVolcano.buildbin-libdir && mkdir EnhancedVolcano.buildbin-libdir && /Users/biocbuild/BBS/utils/build-universal.sh EnhancedVolcano_1.27.0.tar.gz /Library/Frameworks/R.framework/Resources/bin/R EnhancedVolcano.buildbin-libdir StartedAt: 2025-07-14 22:17:57 -0400 (Mon, 14 Jul 2025) EndedAt: 2025-07-14 22:18:00 -0400 (Mon, 14 Jul 2025) EllapsedTime: 3.1 seconds RetCode: 0 Status: OK PackageFile: EnhancedVolcano_1.27.0.tgz PackageFileSize: 5.906 MiB