Package: EmpiricalBrownsMethod Version: 1.37.0 Command: F:\biocbuild\bbs-3.22-bioc\R\bin\R.exe CMD INSTALL EmpiricalBrownsMethod StartedAt: 2025-07-01 15:18:52 -0400 (Tue, 01 Jul 2025) EndedAt: 2025-07-01 15:19:30 -0400 (Tue, 01 Jul 2025) EllapsedTime: 37.2 seconds RetCode: 0 Status: OK