Package: EmpiricalBrownsMethod Version: 1.37.0 Command: F:\biocbuild\bbs-3.22-bioc\R\bin\R.exe CMD check --no-multiarch --install=check:EmpiricalBrownsMethod.install-out.txt --library=F:\biocbuild\bbs-3.22-bioc\R\library --no-vignettes --timings EmpiricalBrownsMethod_1.37.0.tar.gz StartedAt: 2025-07-02 01:37:39 -0400 (Wed, 02 Jul 2025) EndedAt: 2025-07-02 01:38:06 -0400 (Wed, 02 Jul 2025) EllapsedTime: 27.0 seconds RetCode: 0 Status: OK CheckDir: EmpiricalBrownsMethod.Rcheck Warnings: 0