Package: EmpiricalBrownsMethod Version: 1.37.0 Command: rm -rf EmpiricalBrownsMethod.buildbin-libdir && mkdir EmpiricalBrownsMethod.buildbin-libdir && F:\biocbuild\bbs-3.22-bioc\R\bin\R.exe CMD INSTALL --build --library=EmpiricalBrownsMethod.buildbin-libdir EmpiricalBrownsMethod_1.37.0.tar.gz StartedAt: 2025-07-02 08:48:16 -0400 (Wed, 02 Jul 2025) EndedAt: 2025-07-02 08:51:07 -0400 (Wed, 02 Jul 2025) EllapsedTime: 170.7 seconds RetCode: 0 Status: OK PackageFile: EmpiricalBrownsMethod_1.37.0.zip PackageFileSize: 57.9 KiB