Package: EWCE Version: 1.17.0 Command: F:\biocbuild\bbs-3.22-bioc\R\bin\R.exe CMD INSTALL EWCE StartedAt: 2025-07-20 17:05:21 -0400 (Sun, 20 Jul 2025) EndedAt: 2025-07-20 17:06:32 -0400 (Sun, 20 Jul 2025) EllapsedTime: 70.1 seconds RetCode: 0 Status: OK