Package: ERSSA Version: 1.27.0 Command: /home/biocbuild/R/R/bin/R CMD INSTALL ERSSA StartedAt: 2025-07-21 20:57:30 -0000 (Mon, 21 Jul 2025) EndedAt: 2025-07-21 20:58:04 -0000 (Mon, 21 Jul 2025) EllapsedTime: 34.2 seconds RetCode: 0 Status: OK