Package: ERSSA Version: 1.27.0 Command: /home/biocbuild/R/R/bin/R CMD check --install=check:ERSSA.install-out.txt --library=/home/biocbuild/R/R/site-library --no-vignettes --timings ERSSA_1.27.0.tar.gz StartedAt: 2025-07-22 06:57:46 -0000 (Tue, 22 Jul 2025) EndedAt: 2025-07-22 07:03:10 -0000 (Tue, 22 Jul 2025) EllapsedTime: 324.2 seconds RetCode: 0 Status: OK CheckDir: ERSSA.Rcheck Warnings: 0