Package: ERSSA Version: 1.27.0 Command: /home/biocbuild/R/R/bin/R CMD build --keep-empty-dirs --no-resave-data ERSSA StartedAt: 2025-07-21 23:40:08 -0000 (Mon, 21 Jul 2025) EndedAt: 2025-07-21 23:41:13 -0000 (Mon, 21 Jul 2025) EllapsedTime: 65.0 seconds RetCode: 0 Status: OK PackageFile: ERSSA_1.27.0.tar.gz PackageFileSize: 2.742 MiB